BEGIN:VCALENDAR
VERSION:2.0
PRODID:icalendar-ruby
CALSCALE:GREGORIAN
METHOD:PUBLISH
BEGIN:VEVENT
DTSTAMP:20260424T111744Z
UID:104-877569@hazelwoodbaptist.com
DTSTART:20260520T000000Z
DTEND:20260520T010000Z
CLASS:PUBLIC
CREATED:20260423T160943
DESCRIPTION:
LAST-MODIFIED:20260423T160943
LOCATION:Fritz's in Florissant
SUMMARY:Women's Ice Cream Meet Up
URL;VALUE=URI:https://hazelwoodbaptist.com/events/womens-ice-cream-meet-up-
 -104/2026-05-19
ATTACH;FILENAME=Third-Tues.-Ice-Cream-Night-website.png;FMTTYPE=image/png:h
 ttps://dq5pwpg1q8ru0.cloudfront.net/2026/04/23/21/09/42/3588c454-212f-400a
 -acff-c13f21d24722/Third-Tues.-Ice-Cream-Night-website.png
END:VEVENT
END:VCALENDAR
