BEGIN:VCALENDAR
VERSION:2.0
PRODID:icalendar-ruby
CALSCALE:GREGORIAN
METHOD:PUBLISH
BEGIN:VEVENT
DTSTAMP:20260421T122146Z
UID:100-863552@hazelwoodbaptist.com
DTSTART:20260506T233000Z
DTEND:20260507T000000Z
CLASS:PUBLIC
CREATED:20260420T132350
DESCRIPTION:Join us for our children's worship program\, "Our Great\, Great
  God!" on Wednesday\, May 6 at 6:30pm.
LAST-MODIFIED:20260420T132350
LOCATION:6161 Howdershell Rd
SUMMARY:SHINE Kids Worship Program
URL;VALUE=URI:https://hazelwoodbaptist.com/events/shine-kids-worship-progra
 m/2026-05-06
ATTACH;FILENAME=S.H.I.N.E-Program.png;FMTTYPE=image/png:https://dq5pwpg1q8r
 u0.cloudfront.net/2026/04/20/18/23/50/87f99165-d539-423a-8666-fceb9a82657a
 /S.H.I.N.E-Program.png
END:VEVENT
END:VCALENDAR
