BEGIN:VCALENDAR
VERSION:2.0
PRODID:icalendar-ruby
CALSCALE:GREGORIAN
METHOD:PUBLISH
BEGIN:VEVENT
DTSTAMP:20260424T111109Z
UID:102-877568@hazelwoodbaptist.com
DTSTART:20260517T173000Z
DTEND:20260517T183000Z
CLASS:PUBLIC
CREATED:20260423T160712
DESCRIPTION:Join us as we recognize our high school &amp\; college graduate
 s! Following the 10:45am service\, families of the graduates are invited f
 or a celebratory lunch in the gym.
LAST-MODIFIED:20260423T160712
LOCATION:6161 Howdershell Rd
SUMMARY:Graduation Sunday
URL;VALUE=URI:https://hazelwoodbaptist.com/events/graduation-sunday/2026-05
 -17
ATTACH;FILENAME=Graduation-Sunday.png;FMTTYPE=image/png:https://dq5pwpg1q8r
 u0.cloudfront.net/2026/04/23/20/27/05/9901ae4b-0561-4dde-aa67-7619506c3688
 /Graduation-Sunday.png
END:VEVENT
END:VCALENDAR
